BEGIN:VCALENDAR
VERSION:2.0
PRODID:-//Mia Loweree - ECPv6.6.0.2//NONSGML v1.0//EN
CALSCALE:GREGORIAN
METHOD:PUBLISH
X-WR-CALNAME:Mia Loweree
X-ORIGINAL-URL:https://mialoweree.com
X-WR-CALDESC:Events for Mia Loweree
REFRESH-INTERVAL;VALUE=DURATION:PT1H
X-Robots-Tag:noindex
X-PUBLISHED-TTL:PT1H
BEGIN:VTIMEZONE
TZID:America/Chicago
BEGIN:DAYLIGHT
TZOFFSETFROM:-0600
TZOFFSETTO:-0500
TZNAME:CDT
DTSTART:20230312T080000
END:DAYLIGHT
BEGIN:STANDARD
TZOFFSETFROM:-0500
TZOFFSETTO:-0600
TZNAME:CST
DTSTART:20231105T070000
END:STANDARD
END:VTIMEZONE
BEGIN:VEVENT
DTSTART;VALUE=DATE:20230826
DTEND;VALUE=DATE:20230827
DTSTAMP:20260424T134810
CREATED:20221229T074515Z
LAST-MODIFIED:20221229T074642Z
UID:702-1693008000-1693094399@mialoweree.com
SUMMARY:Spiritual Life Fair - August 26th\, 2023
DESCRIPTION:Join me for the Spiritual Life Fair – organized and owned by Spiritual Life Productions! August 26th at Nature’s Treasures on I35! \nA division of Spiritual Life Productions\, this monthly Saturday fair is focused on presenting very special talents and products in a community dedicated to healing the Body\, Mind\, and Spirit as One. Offering guidance and encouragement\, bringing like-minded people together. \nCome on out and see me! \n—\nDetails\nSaturday\, August 26th\n11am – 5:30pm \nFree admission!
URL:https://mialoweree.com/event/spiritual-life-fair-august-26th-2023/
LOCATION:Nature’s Treasures – Old Location\, 4103 North IH-35\, Austin\, TX\, 78722\, United States
ATTACH;FMTTYPE=image/png:https://mialoweree.com/wp-content/uploads/2016/04/Spiritual-Life-Fair-Logo-2015-300px.png
END:VEVENT
END:VCALENDAR