BEGIN:VCALENDAR
VERSION:2.0
PRODID:-//Mia Loweree - ECPv6.6.0.2//NONSGML v1.0//EN
CALSCALE:GREGORIAN
METHOD:PUBLISH
X-ORIGINAL-URL:https://mialoweree.com
X-WR-CALDESC:Events for Mia Loweree
REFRESH-INTERVAL;VALUE=DURATION:PT1H
X-Robots-Tag:noindex
X-PUBLISHED-TTL:PT1H
BEGIN:VTIMEZONE
TZID:America/Chicago
BEGIN:DAYLIGHT
TZOFFSETFROM:-0600
TZOFFSETTO:-0500
TZNAME:CDT
DTSTART:20230312T080000
END:DAYLIGHT
BEGIN:STANDARD
TZOFFSETFROM:-0500
TZOFFSETTO:-0600
TZNAME:CST
DTSTART:20231105T070000
END:STANDARD
END:VTIMEZONE
BEGIN:VEVENT
DTSTART;VALUE=DATE:20230923
DTEND;VALUE=DATE:20230925
DTSTAMP:20260424T121324
CREATED:20230820T223834Z
LAST-MODIFIED:20230820T223834Z
UID:783-1695427200-1695599999@mialoweree.com
SUMMARY:West Texas Metaphysical Life Fair - Fall 2023
DESCRIPTION:Join me for the Fall 2023 Metaphysical Life Fair at the MCM Grande Hotel and Fun Dome in Odessa\, Texas! \nThis fair only comes out to West Texas once a year! So tell your friends\, and please do catch us when we are in town! \nLectures and hourly door prizes run all weekend with paid admission! \nCome on out and see me! \n—\nDetails\nSaturday\, September 23rd\n10am – 6pm\nSunday\, September 24th\n11am – 6pm \nEntry: $10/day; free parking
URL:https://mialoweree.com/event/west-texas-metaphysical-life-fair-fall-2023/
LOCATION:MCM Grande Hotel and Fun Dome\, 6201 I-20 Business Loop\, Odessa\, TX\, 79762\, United States
ATTACH;FMTTYPE=image/webp:https://mialoweree.com/wp-content/uploads/2022/08/Metaphysical-Life-Fair-Banner-Midland.webp
END:VEVENT
END:VCALENDAR