BEGIN:VCALENDAR
VERSION:2.0
PRODID:-//Mia Loweree - ECPv6.6.0.2//NONSGML v1.0//EN
CALSCALE:GREGORIAN
METHOD:PUBLISH
X-ORIGINAL-URL:https://mialoweree.com
X-WR-CALDESC:Events for Mia Loweree
REFRESH-INTERVAL;VALUE=DURATION:PT1H
X-Robots-Tag:noindex
X-PUBLISHED-TTL:PT1H
BEGIN:VTIMEZONE
TZID:America/Chicago
BEGIN:DAYLIGHT
TZOFFSETFROM:-0600
TZOFFSETTO:-0500
TZNAME:CDT
DTSTART:20240310T080000
END:DAYLIGHT
BEGIN:STANDARD
TZOFFSETFROM:-0500
TZOFFSETTO:-0600
TZNAME:CST
DTSTART:20241103T070000
END:STANDARD
END:VTIMEZONE
BEGIN:VEVENT
DTSTART;VALUE=DATE:20240511
DTEND;VALUE=DATE:20240512
DTSTAMP:20260423T215907
CREATED:20240312T033022Z
LAST-MODIFIED:20240405T153218Z
UID:925-1715385600-1715471999@mialoweree.com
SUMMARY:San Marcos Metaphysical and Holistic Fair - May 11th\, 2024
DESCRIPTION:Join me on Saturday\, May 11th\, for the San Marcos Metaphysical and Holistic Fair at the Holiday Inn in San Marcos! \nThis event is for individuals looking for guidance\, healing\, or simply wanting to purchase items for themselves or a loved one. \nCome on out and see me! \n—\nDetails\nSaturday\, May 11th\n11am – 5pm \nFree admission! \nCheck out my entire calendar of events here: https://mialoweree.com/events.
URL:https://mialoweree.com/event/san-marcos-metaphysical-and-holistic-fair-may-11th-2024/
LOCATION:Holiday Inn San Marcos\, 105 Bintu Drive\, San Marcos\, Texas\, 78666\, United States
ATTACH;FMTTYPE=image/webp:https://mialoweree.com/wp-content/uploads/2023/01/chakras-light-meditation-being-akashic-records-mia-loweree.webp
END:VEVENT
END:VCALENDAR