BEGIN:VCALENDAR
VERSION:2.0
PRODID:-//Mia Loweree - ECPv6.6.0.2//NONSGML v1.0//EN
CALSCALE:GREGORIAN
METHOD:PUBLISH
X-ORIGINAL-URL:https://mialoweree.com
X-WR-CALDESC:Events for Mia Loweree
REFRESH-INTERVAL;VALUE=DURATION:PT1H
X-Robots-Tag:noindex
X-PUBLISHED-TTL:PT1H
BEGIN:VTIMEZONE
TZID:America/Chicago
BEGIN:DAYLIGHT
TZOFFSETFROM:-0600
TZOFFSETTO:-0500
TZNAME:CDT
DTSTART:20240310T080000
END:DAYLIGHT
BEGIN:STANDARD
TZOFFSETFROM:-0500
TZOFFSETTO:-0600
TZNAME:CST
DTSTART:20241103T070000
END:STANDARD
END:VTIMEZONE
BEGIN:VEVENT
DTSTART;VALUE=DATE:20240907
DTEND;VALUE=DATE:20240908
DTSTAMP:20260423T144923
CREATED:20240104T124819Z
LAST-MODIFIED:20240102T215327Z
UID:858-1725667200-1725753599@mialoweree.com
SUMMARY:Spiritual Life Fair - September 7th\, 2024
DESCRIPTION:Join me for the Spiritual Life Fair – organized and owned by Spiritual Life Productions! September 7th at Nature’s Treasures on I35! \nA division of Spiritual Life Productions\, this monthly Saturday fair is focused on presenting very special talents and products in a community dedicated to healing the Body\, Mind\, and Spirit as One. Offering guidance and encouragement\, bringing like-minded people together. \nCome on out and see me! \n—\nDetails\nSaturday\, September 7th\n11am – 5:30pm \nFree admission!
URL:https://mialoweree.com/event/spiritual-life-fair-september-7th-2024/
LOCATION:Nature’s Treasures – Old Location\, 4103 North IH-35\, Austin\, TX\, 78722\, United States
ATTACH;FMTTYPE=image/png:https://mialoweree.com/wp-content/uploads/2016/04/Spiritual-Life-Fair-Logo-2015-300px.png
END:VEVENT
END:VCALENDAR