BEGIN:VCALENDAR
VERSION:2.0
PRODID:-//Mia Loweree - ECPv6.6.0.2//NONSGML v1.0//EN
CALSCALE:GREGORIAN
METHOD:PUBLISH
X-WR-CALNAME:Mia Loweree
X-ORIGINAL-URL:https://mialoweree.com
X-WR-CALDESC:Events for Mia Loweree
REFRESH-INTERVAL;VALUE=DURATION:PT1H
X-Robots-Tag:noindex
X-PUBLISHED-TTL:PT1H
BEGIN:VTIMEZONE
TZID:America/Chicago
BEGIN:DAYLIGHT
TZOFFSETFROM:-0600
TZOFFSETTO:-0500
TZNAME:CDT
DTSTART:20250309T080000
END:DAYLIGHT
BEGIN:STANDARD
TZOFFSETFROM:-0500
TZOFFSETTO:-0600
TZNAME:CST
DTSTART:20251102T070000
END:STANDARD
END:VTIMEZONE
BEGIN:VEVENT
DTSTART;VALUE=DATE:20250301
DTEND;VALUE=DATE:20250303
DTSTAMP:20260423T045749
CREATED:20250126T225454Z
LAST-MODIFIED:20250126T231817Z
UID:1037-1740787200-1740959999@mialoweree.com
SUMMARY:Wimberley Metaphysical and Holistic Fair - March 1-2\, 2025
DESCRIPTION:Join me for the March Wimberley Metaphysical and Holistic Fair at the Wimberley Community Center on Ranch Road 12 in Wimberley\, TX! \nThis event is for individuals looking for guidance\, healing\, or simply wanting to purchase items for themselves or a loved one. \nI will speak on the Akashic Records on one of those days. Please check the lecture schedule closer to the event date for confirmation. Come on out and see me! \n—\nDetails\nSaturday and Sunday\, March 1st and 2nd\n11am – 5pm \nFree admission! \nCheck out my entire calendar of events here: https://mialoweree.com/events.
URL:https://mialoweree.com/event/wimberley-metaphysical-and-holistic-fair-march-2025/
LOCATION:Wimberley Community Center\, 14068 Ranch Road 12\, Wimberley\, TX\, 78676\, United States
ATTACH;FMTTYPE=image/png:https://mialoweree.com/wp-content/uploads/2024/12/Wimberley-Metaphysical-and-Holistic-Fair-March-1-2-2025.png
END:VEVENT
END:VCALENDAR