BEGIN:VCALENDAR
VERSION:2.0
PRODID:-//Mia Loweree - ECPv6.6.0.2//NONSGML v1.0//EN
CALSCALE:GREGORIAN
METHOD:PUBLISH
X-WR-CALNAME:Mia Loweree
X-ORIGINAL-URL:https://mialoweree.com
X-WR-CALDESC:Events for Mia Loweree
REFRESH-INTERVAL;VALUE=DURATION:PT1H
X-Robots-Tag:noindex
X-PUBLISHED-TTL:PT1H
BEGIN:VTIMEZONE
TZID:America/Chicago
BEGIN:DAYLIGHT
TZOFFSETFROM:-0600
TZOFFSETTO:-0500
TZNAME:CDT
DTSTART:20260308T080000
END:DAYLIGHT
BEGIN:STANDARD
TZOFFSETFROM:-0500
TZOFFSETTO:-0600
TZNAME:CST
DTSTART:20261101T070000
END:STANDARD
END:VTIMEZONE
BEGIN:VEVENT
DTSTART;VALUE=DATE:20261010
DTEND;VALUE=DATE:20261012
DTSTAMP:20260421T100147
CREATED:20260109T043215Z
LAST-MODIFIED:20260209T020354Z
UID:1102-1791590400-1791763199@mialoweree.com
SUMMARY:Wimberley Spiritual Life Expo - October 10-11\, 2026
DESCRIPTION:Join me for the October Wimberley Spiritual Life Expo at the Wimberley Community Center on Ranch Road 12 in Wimberley! \nThis event is for individuals looking for guidance\, healing\, or simply wanting to purchase items for themselves or a loved one. \nI will likely speak on the Akashic Records on one of those days. Please check the lecture schedule closer to the event date for confirmation. Come on out and see me! \n—\nDetails\nSaturday and Sunday\, October 10th and 11th\n11am – 5pm \nAdmission:\n1-Day entry fee is $5 ages 5+; $3 1-5 years old\n2-Day entry fee is $8 ages 5+; $5 1-5 years old \nCheck out my entire calendar of events here: https://mialoweree.com/events.
URL:https://mialoweree.com/event/wimberley-spiritual-life-expo-october-10-11-2026/
LOCATION:Wimberley Community Center\, 14068 Ranch Road 12\, Wimberley\, TX\, 78676\, United States
ATTACH;FMTTYPE=image/png:https://mialoweree.com/wp-content/uploads/2026/01/Heaven-Pathways-Earth-Dr-Sheryl-Martin-Fairs.png
END:VEVENT
BEGIN:VEVENT
DTSTART;VALUE=DATE:20261017
DTEND;VALUE=DATE:20261018
DTSTAMP:20260421T100147
CREATED:20260109T052239Z
LAST-MODIFIED:20260109T052239Z
UID:1123-1792195200-1792281599@mialoweree.com
SUMMARY:Austin Metaphysical and Holistic Fair – October 17th\, 2026
DESCRIPTION:Join me for the monthly Austin Metaphysical and Holistic Fair – organized and owned by Heaven Pathways Earth! October 17th at the new Nature’s Treasures Event Center on I35! \nDiscover a variety of vendors offering metaphysical products\, healing services\, and wellness resources. \nCome on out and see me! \n—\nDetails\nSaturday\, October 17th\n11am – 5pm \nFree admission!
URL:https://mialoweree.com/event/austin-metaphysical-and-holistic-fair-october-17th-2026/
LOCATION:Nature’s Treasures – New Location\, 11055 N. Interstate 35\, Austin\, 78753\, United States
ATTACH;FMTTYPE=image/webp:https://mialoweree.com/wp-content/uploads/2023/01/chakras-light-meditation-being-akashic-records-mia-loweree.webp
END:VEVENT
BEGIN:VEVENT
DTSTART;VALUE=DATE:20261114
DTEND;VALUE=DATE:20261115
DTSTAMP:20260421T100147
CREATED:20260109T052312Z
LAST-MODIFIED:20260109T052312Z
UID:1124-1794614400-1794700799@mialoweree.com
SUMMARY:Austin Metaphysical and Holistic Fair – November 14th\, 2026
DESCRIPTION:Join me for the monthly Austin Metaphysical and Holistic Fair – organized and owned by Heaven Pathways Earth! November 14th at the new Nature’s Treasures Event Center on I35! \nDiscover a variety of vendors offering metaphysical products\, healing services\, and wellness resources. \nCome on out and see me! \n—\nDetails\nSaturday\, November 14th\n11am – 5pm \nFree admission!
URL:https://mialoweree.com/event/austin-metaphysical-and-holistic-fair-november-14th-2026/
LOCATION:Nature’s Treasures – New Location\, 11055 N. Interstate 35\, Austin\, 78753\, United States
ATTACH;FMTTYPE=image/webp:https://mialoweree.com/wp-content/uploads/2023/01/chakras-light-meditation-being-akashic-records-mia-loweree.webp
END:VEVENT
BEGIN:VEVENT
DTSTART;VALUE=DATE:20261212
DTEND;VALUE=DATE:20261213
DTSTAMP:20260421T100147
CREATED:20260109T052343Z
LAST-MODIFIED:20260109T052343Z
UID:1125-1797033600-1797119999@mialoweree.com
SUMMARY:Austin Metaphysical and Holistic Fair – December 12th\, 2026
DESCRIPTION:Join me for the monthly Austin Metaphysical and Holistic Fair – organized and owned by Heaven Pathways Earth! December 12th at the new Nature’s Treasures Event Center on I35! \nDiscover a variety of vendors offering metaphysical products\, healing services\, and wellness resources. \nCome on out and see me! \n—\nDetails\nSaturday\, December 12th\n11am – 5pm \nFree admission!
URL:https://mialoweree.com/event/austin-metaphysical-and-holistic-fair-december-12th-2026/
LOCATION:Nature’s Treasures – New Location\, 11055 N. Interstate 35\, Austin\, 78753\, United States
ATTACH;FMTTYPE=image/webp:https://mialoweree.com/wp-content/uploads/2023/01/chakras-light-meditation-being-akashic-records-mia-loweree.webp
END:VEVENT
END:VCALENDAR