BEGIN:VCALENDAR
VERSION:2.0
PRODID:-//Mia Loweree - ECPv6.6.0.2//NONSGML v1.0//EN
CALSCALE:GREGORIAN
METHOD:PUBLISH
X-WR-CALNAME:Mia Loweree
X-ORIGINAL-URL:https://mialoweree.com
X-WR-CALDESC:Events for Mia Loweree
REFRESH-INTERVAL;VALUE=DURATION:PT1H
X-Robots-Tag:noindex
X-PUBLISHED-TTL:PT1H
BEGIN:VTIMEZONE
TZID:UTC
BEGIN:STANDARD
TZOFFSETFROM:+0000
TZOFFSETTO:+0000
TZNAME:UTC
DTSTART:20160101T000000
END:STANDARD
END:VTIMEZONE
BEGIN:VEVENT
DTSTART;TZID=UTC:20160716T100000
DTEND;TZID=UTC:20160716T183000
DTSTAMP:20260421T221159
CREATED:20160622T181329Z
LAST-MODIFIED:20160622T181918Z
UID:276-1468663200-1468693800@mialoweree.com
SUMMARY:Austin Metaphysical and Holistic Life Expo
DESCRIPTION:Austin Metaphysical and Holistic Life Expo\nAustin Metaphysical Life Fair only occurs four times a year and has been a local metaphysical community tradition for over 40 years! \nFor 2016\, Austin Metaphysical Life Fair will combine it’s super powers with Austin Holistic Health & Wellness Fair to create a new\, bigger Austin Metaphysical & Holistic Life Expo! Free lectures on July 16th & 17th with $7 admission. \nCome see me at the expo! \nEvent Flyer
URL:https://mialoweree.com/event/austin-metaphysical-holistic-life-expo-july-16/
LOCATION:The Marchesa Hall\, 6226 Middle Fiskville Rd\, Austin\, TX\, 78752\, United States
ATTACH;FMTTYPE=image/png:https://mialoweree.com/wp-content/uploads/2016/06/Austin-Metaphysical-and-Holistic-Life-Expo-2016-July.png
END:VEVENT
BEGIN:VEVENT
DTSTART;TZID=UTC:20160710T110000
DTEND;TZID=UTC:20160710T180000
DTSTAMP:20260421T221159
CREATED:20160505T013949Z
LAST-MODIFIED:20160505T013949Z
UID:249-1468148400-1468173600@mialoweree.com
SUMMARY:Featured Weekend Practitioner
DESCRIPTION:I have been selected as a Featured Weekend Practitioner by Nature’s Treasures. Come on out and see me on Saturday\, July 10th!
URL:https://mialoweree.com/event/featured-weekend-practitioner/
LOCATION:Nature’s Treasures – Old Location\, 4103 North IH-35\, Austin\, TX\, 78722\, United States
ATTACH;FMTTYPE=image/jpeg:https://mialoweree.com/wp-content/uploads/2016/03/20160824_184829-1-e1481044917170.jpg
END:VEVENT
END:VCALENDAR