BEGIN:VCALENDAR
VERSION:2.0
PRODID:-//Mia Loweree - ECPv6.6.0.2//NONSGML v1.0//EN
CALSCALE:GREGORIAN
METHOD:PUBLISH
X-WR-CALNAME:Mia Loweree
X-ORIGINAL-URL:https://mialoweree.com
X-WR-CALDESC:Events for Mia Loweree
REFRESH-INTERVAL;VALUE=DURATION:PT1H
X-Robots-Tag:noindex
X-PUBLISHED-TTL:PT1H
BEGIN:VTIMEZONE
TZID:America/Chicago
BEGIN:DAYLIGHT
TZOFFSETFROM:-0600
TZOFFSETTO:-0500
TZNAME:CDT
DTSTART:20230312T080000
END:DAYLIGHT
BEGIN:STANDARD
TZOFFSETFROM:-0500
TZOFFSETTO:-0600
TZNAME:CST
DTSTART:20231105T070000
END:STANDARD
END:VTIMEZONE
BEGIN:VEVENT
DTSTART;VALUE=DATE:20230520
DTEND;VALUE=DATE:20230521
DTSTAMP:20260424T182526
CREATED:20230516T222133Z
LAST-MODIFIED:20230820T211153Z
UID:754-1684540800-1684627199@mialoweree.com
SUMMARY:San Marcos Metaphysical and Holistic Fair - May 20th\, 2023
DESCRIPTION:Join me for the May 20th San Marcos Metaphysical and Holistic Fair at the Holiday Inn San Marcos! \nThis event is for individuals looking for guidance\, healing\, or simply wanting to purchase items for themselves or a loved one. \nCome on out and see me! \n—\nDetails\nSaturday\, May 20th\n11am – 5pm \nFree admission! \nCheck out my entire calendar of events here: https://mialoweree.com/events.
URL:https://mialoweree.com/event/san-marcos-metaphysical-and-holistic-fair-may-20th-2023/
LOCATION:Holiday Inn San Marcos\, 105 Bintu Drive\, San Marcos\, Texas\, 78666\, United States
ATTACH;FMTTYPE=image/webp:https://mialoweree.com/wp-content/uploads/2023/01/chakras-light-meditation-being-akashic-records-mia-loweree.webp
END:VEVENT
BEGIN:VEVENT
DTSTART;VALUE=DATE:20230527
DTEND;VALUE=DATE:20230528
DTSTAMP:20260424T182526
CREATED:20221229T073012Z
LAST-MODIFIED:20221229T073012Z
UID:683-1685145600-1685231999@mialoweree.com
SUMMARY:Spiritual Life Fair - May 27th\, 2023
DESCRIPTION:Join me for the Spiritual Life Fair – organized and owned by Spiritual Life Productions! May 27th at Nature’s Treasures on I35! \nA division of Spiritual Life Productions\, this monthly Saturday fair is focused on presenting very special talents and products in a community dedicated to healing the Body\, Mind\, and Spirit as One. Offering guidance and encouragement\, bringing like-minded people together. \nCome on out and see me! \n—\nDetails\nSaturday\, May 27th\n11am – 5:30pm \nFree admission!
URL:https://mialoweree.com/event/spiritual-life-fair-may-27th-2023/
LOCATION:Nature’s Treasures – Old Location\, 4103 North IH-35\, Austin\, TX\, 78722\, United States
ATTACH;FMTTYPE=image/png:https://mialoweree.com/wp-content/uploads/2016/04/Spiritual-Life-Fair-Logo-2015-300px.png
END:VEVENT
END:VCALENDAR