BEGIN:VCALENDAR
VERSION:2.0
PRODID:-//Mia Loweree - ECPv6.6.0.2//NONSGML v1.0//EN
CALSCALE:GREGORIAN
METHOD:PUBLISH
X-WR-CALNAME:Mia Loweree
X-ORIGINAL-URL:https://mialoweree.com
X-WR-CALDESC:Events for Mia Loweree
REFRESH-INTERVAL;VALUE=DURATION:PT1H
X-Robots-Tag:noindex
X-PUBLISHED-TTL:PT1H
BEGIN:VTIMEZONE
TZID:America/Chicago
BEGIN:DAYLIGHT
TZOFFSETFROM:-0600
TZOFFSETTO:-0500
TZNAME:CDT
DTSTART:20230312T080000
END:DAYLIGHT
BEGIN:STANDARD
TZOFFSETFROM:-0500
TZOFFSETTO:-0600
TZNAME:CST
DTSTART:20231105T070000
END:STANDARD
END:VTIMEZONE
BEGIN:VEVENT
DTSTART;VALUE=DATE:20230930
DTEND;VALUE=DATE:20231002
DTSTAMP:20260424T084848
CREATED:20221229T070433Z
LAST-MODIFIED:20230525T042801Z
UID:675-1696032000-1696204799@mialoweree.com
SUMMARY:Austin Metaphysical and Holistic Life Expo – Fall 2023
DESCRIPTION:Join me for the Fall 2023 Austin Metaphysical and Holistic Life EXPO at the Norris Conference Center on Anderson Lane in Austin! \nThis seasonal 2-day expo is put on by Spiritual Life Productions and only occurs four times a year. It’s been a local metaphysical community tradition for over 45 years! \nThis expo is dedicated to education and community. We pride ourselves on providing a welcoming\, uplifting\, and comfortable environment. Meet vendors from all over the US! \nCome on out and see me! \n—\nDetails\nSaturday\, September 30th\n10am – 6pm\nSunday\, October 1st\n11am – 6pm \nEntry: $10/day; free parking
URL:https://mialoweree.com/event/austin-metaphysical-and-holistic-life-expo-fall-2023/
LOCATION:The Norris Center\, 2525 West Anderson Lane\, Ste 365\, Austin\, TX\, 78757\, United States
ATTACH;FMTTYPE=image/png:https://mialoweree.com/wp-content/uploads/2022/12/Austin-Metaphysical-and-Holistic-Life-Expo-Sep-Oct-2023.png
END:VEVENT
BEGIN:VEVENT
DTSTART;VALUE=DATE:20231007
DTEND;VALUE=DATE:20231009
DTSTAMP:20260424T084848
CREATED:20230525T042444Z
LAST-MODIFIED:20230530T051609Z
UID:765-1696636800-1696809599@mialoweree.com
SUMMARY:Wimberley Metaphysical and Holistic Fair - October 7-8\, 2023
DESCRIPTION:Join me for the October Wimberley Metaphysical and Holistic Fair at the Wimberley Community Center on Ranch Road 12 in Wimberley! \nThis event is for individuals looking for guidance\, healing\, or simply wanting to purchase items for themselves or a loved one. \nCome on out and see me! \n—\nDetails\nSaturday and Sunday\, October 7th-8th\n11am – 5:30pm \nFree admission! \nCheck out my entire calendar of events here: https://mialoweree.com/events.
URL:https://mialoweree.com/event/wimberley-metaphysical-and-holistic-fair-october-7-8-2023/
LOCATION:Wimberley Community Center\, 14068 Ranch Road 12\, Wimberley\, TX\, 78676\, United States
ATTACH;FMTTYPE=image/webp:https://mialoweree.com/wp-content/uploads/2023/01/chakras-light-meditation-being-akashic-records-mia-loweree.webp
END:VEVENT
END:VCALENDAR