BEGIN:VCALENDAR
VERSION:2.0
PRODID:-//Mia Loweree - ECPv6.6.0.2//NONSGML v1.0//EN
CALSCALE:GREGORIAN
METHOD:PUBLISH
X-WR-CALNAME:Mia Loweree
X-ORIGINAL-URL:https://mialoweree.com
X-WR-CALDESC:Events for Mia Loweree
REFRESH-INTERVAL;VALUE=DURATION:PT1H
X-Robots-Tag:noindex
X-PUBLISHED-TTL:PT1H
BEGIN:VTIMEZONE
TZID:America/Chicago
BEGIN:DAYLIGHT
TZOFFSETFROM:-0600
TZOFFSETTO:-0500
TZNAME:CDT
DTSTART:20240310T080000
END:DAYLIGHT
BEGIN:STANDARD
TZOFFSETFROM:-0500
TZOFFSETTO:-0600
TZNAME:CST
DTSTART:20241103T070000
END:STANDARD
END:VTIMEZONE
BEGIN:VEVENT
DTSTART;VALUE=DATE:20240601
DTEND;VALUE=DATE:20240603
DTSTAMP:20260423T191053
CREATED:20240312T023821Z
LAST-MODIFIED:20240731T051556Z
UID:924-1717200000-1717372799@mialoweree.com
SUMMARY:Wimberley Metaphysical and Holistic Fair - June 1-2\, 2024
DESCRIPTION:Join me for the June Wimberley Metaphysical and Holistic Fair at the Wimberley Community Center on Ranch Road 12 in Wimberley! \nThis event is for individuals looking for guidance\, healing\, or simply wanting to purchase items for themselves or a loved one. \nCome on out and see me! \n—\nDetails\nSaturday and Sunday\, June 1st and 2nd\n11am – 5pm \nFree admission! \nCheck out my entire calendar of events here: https://mialoweree.com/events.
URL:https://mialoweree.com/event/wimberley-metaphysical-and-holistic-fair-june-1-2-2024/
LOCATION:Wimberley Community Center\, 14068 Ranch Road 12\, Wimberley\, TX\, 78676\, United States
ATTACH;FMTTYPE=image/webp:https://mialoweree.com/wp-content/uploads/2023/01/chakras-light-meditation-being-akashic-records-mia-loweree.webp
END:VEVENT
BEGIN:VEVENT
DTSTART;VALUE=DATE:20240608
DTEND;VALUE=DATE:20240609
DTSTAMP:20260423T191053
CREATED:20240103T133340Z
LAST-MODIFIED:20240102T215204Z
UID:855-1717804800-1717891199@mialoweree.com
SUMMARY:Spiritual Life Fair - June 8th\, 2024
DESCRIPTION:Join me for the Spiritual Life Fair – organized and owned by Spiritual Life Productions! June 8th at Nature’s Treasures on I35! \nA division of Spiritual Life Productions\, this monthly Saturday fair is focused on presenting very special talents and products in a community dedicated to healing the Body\, Mind\, and Spirit as One. Offering guidance and encouragement\, bringing like-minded people together. \nCome on out and see me! \n—\nDetails\nSaturday\, June 8th\n11am – 5:30pm \nFree admission!
URL:https://mialoweree.com/event/spiritual-life-fair-june-8th-2024/
LOCATION:Nature’s Treasures – Old Location\, 4103 North IH-35\, Austin\, TX\, 78722\, United States
ATTACH;FMTTYPE=image/png:https://mialoweree.com/wp-content/uploads/2016/04/Spiritual-Life-Fair-Logo-2015-300px.png
END:VEVENT
BEGIN:VEVENT
DTSTART;VALUE=DATE:20240622
DTEND;VALUE=DATE:20240623
DTSTAMP:20260423T191053
CREATED:20240607T002443Z
LAST-MODIFIED:20240607T002514Z
UID:949-1719014400-1719100799@mialoweree.com
SUMMARY:Tarot and Oracle Fair: Special Event at Nature's Treasures - June 22nd\, 2024
DESCRIPTION:I am an in-store practitioner at Nature’s Treasures for Saturday\, June 22nd for the special Tarot and Oracle Fair event. Come on out and see me! \n—\nDetails\nSaturday\, June 22nd\n11am – 5:30pm \nLearn more at Nature’s Treasures website here: https://ntrocks.com/upcoming-events/tarot-oracle-expo. \nCheck out my entire calendar of events here: https://mialoweree.com/events.
URL:https://mialoweree.com/event/tarot-and-oracle-fair-special-event-at-natures-treasures-june-22nd-2024/
LOCATION:Nature’s Treasures – Old Location\, 4103 North IH-35\, Austin\, TX\, 78722\, United States
ATTACH;FMTTYPE=image/png:https://mialoweree.com/wp-content/uploads/2016/04/b4d80f09415845b69681d4e96bf2ecdd.png
END:VEVENT
END:VCALENDAR