BEGIN:VCALENDAR
VERSION:2.0
PRODID:-//Mia Loweree - ECPv6.6.0.2//NONSGML v1.0//EN
CALSCALE:GREGORIAN
METHOD:PUBLISH
X-ORIGINAL-URL:https://mialoweree.com
X-WR-CALDESC:Events for Mia Loweree
REFRESH-INTERVAL;VALUE=DURATION:PT1H
X-Robots-Tag:noindex
X-PUBLISHED-TTL:PT1H
BEGIN:VTIMEZONE
TZID:America/Chicago
BEGIN:DAYLIGHT
TZOFFSETFROM:-0600
TZOFFSETTO:-0500
TZNAME:CDT
DTSTART:20250309T080000
END:DAYLIGHT
BEGIN:STANDARD
TZOFFSETFROM:-0500
TZOFFSETTO:-0600
TZNAME:CST
DTSTART:20251102T070000
END:STANDARD
END:VTIMEZONE
BEGIN:VEVENT
DTSTART;VALUE=DATE:20250104
DTEND;VALUE=DATE:20250106
DTSTAMP:20260423T063937
CREATED:20241230T075347Z
LAST-MODIFIED:20241230T075347Z
UID:1015-1735948800-1736121599@mialoweree.com
SUMMARY:Austin Metaphysical and Holistic Life Expo - Winter 2025
DESCRIPTION:Join me for the Winter 2025 Austin Metaphysical and Holistic Life EXPO at the Norris Conference Center on Anderson Lane in Austin! \nSpiritual Life Productions puts on this seasonal two-day expo\, which occurs only four times yearly. It’s been a local metaphysical community tradition for over 50 years! \nThis expo is dedicated to education and community. We pride ourselves on providing a welcoming\, uplifting\, and comfortable environment. Meet vendors from all over the US! \nI will likely speak on the Akashic Records on one of those days. Please confirm this by checking the lecture schedule closer to the event date. Come on out and see me! \n—\nDetails\nSaturday\, January 4th\n10am – 6pm\nSunday\, January 5th\n11am – 6pm \nEntry: $10/day; free parking
URL:https://mialoweree.com/event/austin-metaphysical-and-holistic-life-expo-winter-2025/
LOCATION:The Norris Center\, 2525 West Anderson Lane\, Ste 365\, Austin\, TX\, 78757\, United States
ATTACH;FMTTYPE=image/png:https://mialoweree.com/wp-content/uploads/2024/12/Austin-Metaphysical-and-Holistic-Life-Expo-Jan-2025.png
END:VEVENT
BEGIN:VEVENT
DTSTART;VALUE=DATE:20250111
DTEND;VALUE=DATE:20250112
DTSTAMP:20260423T063937
CREATED:20241230T074330Z
LAST-MODIFIED:20241230T074524Z
UID:1012-1736553600-1736639999@mialoweree.com
SUMMARY:Austin Metaphysical and Holistic Fair – January 11th\, 2025
DESCRIPTION:Join me for the monthly Austin Metaphysical and Holistic Fair – organized and owned by Heaven Pathways Earth! January 11th at the new Nature’s Treasures Event Center on I35! \nDiscover a variety of vendors offering metaphysical products\, healing services\, and wellness resources. \nCome on out and see me! \n—\nDetails\nSaturday\, January 11th\n11am – 5pm \nFree admission!
URL:https://mialoweree.com/event/austin-metaphysical-and-holistic-fair-january-11th-2025/
LOCATION:Nature’s Treasures – New Location\, 11055 N. Interstate 35\, Austin\, 78753\, United States
ATTACH;FMTTYPE=image/png:https://mialoweree.com/wp-content/uploads/2024/12/Austin-Metaphysical-and-Holistic-Fair-Jan-11-2025-e1735544675573.png
END:VEVENT
BEGIN:VEVENT
DTSTART;VALUE=DATE:20250112
DTEND;VALUE=DATE:20250113
DTSTAMP:20260423T063937
CREATED:20241230T005941Z
LAST-MODIFIED:20241230T005941Z
UID:987-1736640000-1736726399@mialoweree.com
SUMMARY:In-Store Practitioner at Nature's Treasures - January 12th\, 2025
DESCRIPTION:I am an In-Store Practitioner at Nature’s Treasures. Come on out and see me! \n—\nDetails\nSunday\, January 12th\n11am – 5:30pm \nCheck out my entire calendar of events here: https://mialoweree.com/events.
URL:https://mialoweree.com/event/in-store-practitioner-at-natures-treasures-january-12th-2025/
LOCATION:Nature’s Treasures – Old Location\, 4103 North IH-35\, Austin\, TX\, 78722\, United States
ATTACH;FMTTYPE=image/png:https://mialoweree.com/wp-content/uploads/2016/04/b4d80f09415845b69681d4e96bf2ecdd.png
END:VEVENT
BEGIN:VEVENT
DTSTART;VALUE=DATE:20250125
DTEND;VALUE=DATE:20250126
DTSTAMP:20260423T063937
CREATED:20250113T063914Z
LAST-MODIFIED:20250113T063945Z
UID:1018-1737763200-1737849599@mialoweree.com
SUMMARY:Nature's Treasures' 25th Anniversary and Re-Grand Opening Celebration - January 25th\, 2025
DESCRIPTION:Join me for Nature’s Treasures’ 25th Anniversary and Re-Grand Opening Celebration at their new location. Come on out and see me! \nSpecial event details: \nNature’s Treasures is thrilled to celebrate 25 incredible years of bringing the wonders of nature to Austin!\nJoin us for an unforgettable day as we unveil our beautiful new location at 11055 N. I-35\, Austin\, TX. \nWhat to Expect: \n\nLocal Vendors: Discover unique treasures and support local artisans.\nDelicious Food Trucks: Savor snacks while you explore.\nProperty Tours: Be among the first to see our great new space.\nHeart Stone Giveaway: Enter for a chance to win a gorgeous heart stone valued at $500!\n\nWhether you’ve been a part of our journey for decades or you’re discovering us for the first time\, we’d love to celebrate this milestone with you. Bring your friends and family to experience the magic of Nature’s Treasures in its new home. \n—\nDetails\nSaturday\, January 25th\n11am – 5pm \nCheck out my entire calendar of events here: https://mialoweree.com/events.
URL:https://mialoweree.com/event/in-store-practitioner-at-natures-treasures-january-12th-2025-2/
LOCATION:Nature’s Treasures – New Location\, 11055 N. Interstate 35\, Austin\, 78753\, United States
ATTACH;FMTTYPE=image/png:https://mialoweree.com/wp-content/uploads/2025/01/24NT004-11_GO_Website_1000x400-calendar-e1736750050536.png
END:VEVENT
END:VCALENDAR